BEGIN:VCALENDAR
VERSION:2.0
PRODID:-//Squarespace Inc/Squarespace 6//v6//EN
BEGIN:VEVENT
UID:5c4f16ef21c67c8d50fdbd7e@squarespace.com
DTSTAMP:20190128T145927Z
DTSTART:20190314T223000Z
DTEND:20190315T000000Z
SUMMARY:Book Talk with Tina Cassidy
GEO:38.884576;-76.996932
LOCATION:East City Bookshop\, 645 Pennsylvania Ave SE #100\, Washington\, D
 C 20003
END:VEVENT
END:VCALENDAR
