BEGIN:VCALENDAR
VERSION:2.0
PRODID:-//Squarespace Inc/Squarespace 6//v6//EN
BEGIN:VEVENT
UID:5c4f1bf5cd836601cd1d507d@squarespace.com
DTSTAMP:20190128T153944Z
DTSTART:20190413T140000Z
DTEND:20190413T180000Z
SUMMARY:Recognizing Black Suffragists: A Wikipedia Editing Workshop
GEO:38.892269;-77.003749
LOCATION:Belmont-Paul Women's Equality National Monument\, 144 Constitution 
 Ave NE\, Washington\, DC 20002
END:VEVENT
END:VCALENDAR
