BEGIN:VCALENDAR
VERSION:2.0
PRODID:-//Squarespace Inc/Squarespace 6//v6//EN
BEGIN:VEVENT
UID:5c4f26e37924e8386a40c067@squarespace.com
DTSTAMP:20190128T161041Z
DTSTART:20190620T223000Z
DTEND:20190621T000000Z
SUMMARY:Book Talk with Bonnie Morris
GEO:38.884576;-76.996932
LOCATION:East City Bookshop\, 645 Pennsylvania Ave SE #100\, Washington\, D
 C 20003
END:VEVENT
END:VCALENDAR
