BEGIN:VCALENDAR
VERSION:2.0
PRODID:-//Squarespace Inc/Squarespace 6//v6//EN
BEGIN:VEVENT
UID:5c2f90b68a922d866e380b93@squarespace.com
DTSTAMP:20190104T200914Z
DTSTART:20190110T233000Z
DTEND:20190111T010000Z
SUMMARY:Book Talk with Congresswoman Eleanor Holmes Norton\, Eleanor Smeal\
 , and Kirsten Swinth
GEO:38.884576;-76.996932
LOCATION:East City Bookshop\, 645 Pennsylvania Ave SE\, Washington\, DC 200
 03
END:VEVENT
END:VCALENDAR
