BEGIN:VCALENDAR
VERSION:2.0
PRODID:-//Squarespace Inc/Squarespace 6//v6//EN
BEGIN:VEVENT
UID:5b92c80caa4a99af71fdeb5d@squarespace.com
DTSTAMP:20181031T181453Z
DTSTART:20181101T223000Z
DTEND:20181102T000000Z
SUMMARY:Centennial Book Talk with Donna Brazile\, Yolanda Caraway\, Leah Da
 ughtry\, and Minyon Moore\, authors of For Colored Girls Who Have Consider
 ed Politics
GEO:38.884576;-76.996932
LOCATION:East City Bookshop\, 645 Pennsylvania Ave SE #100\, Washington\, D
 C 20003
END:VEVENT
END:VCALENDAR
