BEGIN:VCALENDAR
VERSION:2.0
PRODID:-//Squarespace Inc/Squarespace 6//v6//EN
BEGIN:VEVENT
UID:5b7aefa503ce646d8c79bf99@squarespace.com
DTSTAMP:20181024T154045Z
DTSTART:20181207T000000Z
DTEND:20181207T013000Z
SUMMARY:Women and the Vote: Opposition to Women's Equality\, from Suffrage 
 to the ERA
GEO:38.892861;-77.023072
LOCATION:National Archives William G. McGowan Theater\, 700 Pennsylvania Av
 enue Northwest\, Washington\, DC\, 20408\, United States
END:VEVENT
END:VCALENDAR
