BEGIN:VCALENDAR
VERSION:2.0
PRODID:-//Squarespace Inc/Squarespace 6//v6//EN
BEGIN:VEVENT
UID:5c0ee9dd4d7a9cb71f000419@squarespace.com
DTSTAMP:20181218T052117Z
DTSTART:20181219T000000Z
DTEND:20181219T023000Z
SUMMARY:Advanced Screening\, On the Basis of Sex 
GEO:38.896786;-77.026452
LOCATION:Landmark E Street Cinema\, 555 11th St NW\, Washington\, DC 20004
END:VEVENT
END:VCALENDAR
