BEGIN:VCALENDAR
VERSION:2.0
PRODID:-//Squarespace Inc/Squarespace 6//v6//EN
BEGIN:VEVENT
UID:5bd0afbd0852290ddbc6af38@squarespace.com
DTSTAMP:20181108T154009Z
DTSTART:20181211T230000Z
DTEND:20181212T010000Z
SUMMARY:Women's Equality Happy Hour
GEO:38.892269;-77.003749
LOCATION:Belmont-Paul Women's Equality National Monument\, 144 Constitution 
 Ave\, Washington\, DC 20002
END:VEVENT
END:VCALENDAR
