BEGIN:VCALENDAR
VERSION:2.0
PRODID:-//Squarespace Inc/Squarespace 6//v6//EN
BEGIN:VEVENT
UID:5b4c03608a922da49baee3d6@squarespace.com
DTSTAMP:20181120T221127Z
DTSTART:20181127T230000Z
DTEND:20181128T013000Z
SUMMARY:A Night of Suffrage Theater
GEO:38.892316;-77.003768
LOCATION:Belmont-Paul Women's Equality National Monument\, 144 Constitution 
 Ave NE\, Washington\, DC 20002
END:VEVENT
END:VCALENDAR
