BEGIN:VCALENDAR
VERSION:2.0
PRODID:-//Squarespace Inc/Squarespace 6//v6//EN
BEGIN:VEVENT
UID:5bdb604bb8a0458599d0091b@squarespace.com
DTSTAMP:20181113T153057Z
DTSTART:20181126T230000Z
DTEND:20181127T010000Z
SUMMARY:Panel Discussion with Senator Kirsten Gillibrand\, NWP Executive Di
 rector Zakiya Thomas\, &amp\; author Rebecca Traister 
END:VEVENT
END:VCALENDAR
