BEGIN:VCALENDAR
VERSION:2.0
PRODID:-//Squarespace Inc/Squarespace 6//v6//EN
BEGIN:VEVENT
UID:5be34a4040ec9a56dd4a6059@squarespace.com
DTSTAMP:20181107T210513Z
DTSTART:20181121T010000Z
DTEND:20181121T040000Z
SUMMARY:The Agitators Play Post-Show Discussion\, It Takes Two to Make a Th
 ing Go Right: Necessary Coalition/Imperfect Partners
GEO:38.899983;-76.987424
LOCATION:Atlas Performing Arts Center\, 1333 H St NE\, Washington\, DC 2000
 2
END:VEVENT
END:VCALENDAR
