BEGIN:VCALENDAR
VERSION:2.0
PRODID:-//Squarespace Inc/Squarespace 6//v6//EN
BEGIN:VEVENT
UID:5b7aed3588251b5c022c88c2@squarespace.com
DTSTAMP:20180920T194919Z
DTSTART:20181024T223000Z
DTEND:20181025T000000Z
SUMMARY:Centennial Book Talk with Code Girls author Liza Mundy
GEO:38.884576;-76.996932
LOCATION:East City Bookshop\, 645 Pennsylvania Ave SE #100\, Washington\, D
 C 20003
END:VEVENT
END:VCALENDAR
